BEGIN:VCALENDAR
VERSION:2.0
PRODID:-//INDIA EXPOSITION MART LTD - ECPv6.15.17//NONSGML v1.0//EN
CALSCALE:GREGORIAN
METHOD:PUBLISH
X-WR-CALNAME:INDIA EXPOSITION MART LTD
X-ORIGINAL-URL:https://indiaexpomart.com
X-WR-CALDESC:Events for INDIA EXPOSITION MART LTD
REFRESH-INTERVAL;VALUE=DURATION:PT1H
X-Robots-Tag:noindex
X-PUBLISHED-TTL:PT1H
BEGIN:VTIMEZONE
TZID:Asia/Kolkata
BEGIN:STANDARD
TZOFFSETFROM:+0530
TZOFFSETTO:+0530
TZNAME:IST
DTSTART:20250101T000000
END:STANDARD
END:VTIMEZONE
BEGIN:VEVENT
DTSTART;TZID=Asia/Kolkata:20260806T100000
DTEND;TZID=Asia/Kolkata:20260808T180000
DTSTAMP:20260424T021614
CREATED:20260311T072527Z
LAST-MODIFIED:20260311T072733Z
UID:4070-1786010400-1786212000@indiaexpomart.com
SUMMARY:Fan Expo & Conclave
DESCRIPTION:The World’s Only Exhibition Dedicated to Fans & Fan Technology.
URL:https://indiaexpomart.com/event/fan-expo-conclave/
LOCATION:India Expo Centre & Mart\, Plot No. 23 –25 & 27- 29 Knowledge Park - II\, Greater Noida\, Uttar Pradesh\, 201306\, India
ATTACH;FMTTYPE=image/png:https://indiaexpomart.com/wp-content/uploads/2026/03/fan-expo-conclave-expo-logo-img.png
ORGANIZER;CN="Vaarta Trade Fairs India Pvt. Ltd.":MAILTO:info@vaartaindia.com
END:VEVENT
BEGIN:VEVENT
DTSTART;TZID=Asia/Kolkata:20260806T100000
DTEND;TZID=Asia/Kolkata:20260808T180000
DTSTAMP:20260424T021614
CREATED:20260311T073109Z
LAST-MODIFIED:20260311T073133Z
UID:4080-1786010400-1786212000@indiaexpomart.com
SUMMARY:Smart Lighting Expo
DESCRIPTION:A focused B2B exhibition showcasing the latest innovations in lighting technology\, smart lighting systems\, and energy-efficient solutions. The event brings together lighting manufacturers\, technology providers\, architects\, interior designers\, developers\, and system integrators. It serves as a platform to explore new trends\, connect with industry leaders\, and discover emerging applications such as smart and human-centric lighting.
URL:https://indiaexpomart.com/event/smart-lighting-expo/
LOCATION:India Expo Centre & Mart\, Plot No. 23 –25 & 27- 29 Knowledge Park - II\, Greater Noida\, Uttar Pradesh\, 201306\, India
ATTACH;FMTTYPE=image/jpeg:https://indiaexpomart.com/wp-content/uploads/2026/03/smart-lighting-expo-logo-img.jpg
ORGANIZER;CN="Vaarta Trade Fairs India Pvt. Ltd.":MAILTO:info@vaartaindia.com
END:VEVENT
BEGIN:VEVENT
DTSTART;TZID=Asia/Kolkata:20260806T100000
DTEND;TZID=Asia/Kolkata:20260808T180000
DTSTAMP:20260424T021614
CREATED:20260312T110904Z
LAST-MODIFIED:20260312T110954Z
UID:4088-1786010400-1786212000@indiaexpomart.com
SUMMARY:BIOFACH INDIA 2026
DESCRIPTION:India’s leading trade fair for the organic industry co-located with NATURAL EXPO INDIA which India’s most focused & exclusive expo for all things Natural and Millets India\, which brings the entire Millets eco-system on a single platform is the most important business platform to source\, network and learn for the industry. 
URL:https://indiaexpomart.com/event/biofach-india-2026/
LOCATION:India Expo Centre & Mart\, Plot No. 23 –25 & 27- 29 Knowledge Park - II\, Greater Noida\, Uttar Pradesh\, 201306\, India
ATTACH;FMTTYPE=image/jpeg:https://indiaexpomart.com/wp-content/uploads/2026/03/BFI-biofach-logo-img.jpg
ORGANIZER;CN="N%C3%BCrnbergMesse India":MAILTO:priya.sharma@nm-india.com
END:VEVENT
BEGIN:VEVENT
DTSTART;TZID=Asia/Kolkata:20260819T100000
DTEND;TZID=Asia/Kolkata:20260822T180000
DTSTAMP:20260424T021614
CREATED:20251227T093628Z
LAST-MODIFIED:20251230T071253Z
UID:3883-1787133600-1787421600@indiaexpomart.com
SUMMARY:Tent Decor Asia & Horeca Asia 2026 (Aakar 2026)
DESCRIPTION:India is a land of festivals\, festivities\, events\, exhibitions and grand weddings. It is only the tent and decor service providers who converts the dreams into grand realities. They add the necessary tinge\, Galore and Impact to it. \n\n\n\nThe meetings\, incentives\, conferences\, exhibitions\, weddings and exhibition industry in INDIA is growing at a scorching pace. Today clients want the Decor & Catering to be innovative\, user friendly\, facilitative and most important to look majestic.
URL:https://indiaexpomart.com/event/tent-decor-asia-horeca-asia-2026/
LOCATION:India Expo Centre & Mart\, Plot No. 23 –25 & 27- 29 Knowledge Park - II\, Greater Noida\, Uttar Pradesh\, 201306\, India
ATTACH;FMTTYPE=image/jpeg:https://indiaexpomart.com/wp-content/uploads/2025/12/aakr-logo-2026.jpg
ORGANIZER;CN="Aakar Exhibition Pvt. Ltd.":MAILTO:jp@tentdecorasia.com
END:VEVENT
BEGIN:VEVENT
DTSTART;TZID=Asia/Kolkata:20260831T100000
DTEND;TZID=Asia/Kolkata:20260902T180000
DTSTAMP:20260424T021614
CREATED:20260422T093438Z
LAST-MODIFIED:20260422T094023Z
UID:4423-1788170400-1788372000@indiaexpomart.com
SUMMARY:Industrial Connect Expo 2026
DESCRIPTION:Industrial Connect Expo 2026 is a premier B2B industrial exhibition scheduled from 31st August to 2nd September 2026 at the prestigious India Expo Centre & Mart\, located in the heart of Greater Noida\, Delhi NCR. \n\n\n\nPositioned as a one-stop destination for industrial innovation and business networking\, the expo brings together manufacturers\, suppliers\, technology providers\, and key decision-makers from across diverse industrial sectors. The event serves as a dynamic platform to showcase latest machinery\, industrial automation\, smart manufacturing solutions\, and advanced technologies that are transforming the future of industry. \n\n\n\nIndustrial Connect Expo is designed to facilitate meaningful business interactions\, product sourcing\, and strategic partnerships. Whether you are looking to discover new suppliers\, explore cost-effective production solutions\, or promote your products to the rapidly growing NCR industrial market\, the expo provides unparalleled opportunities. \n\n\n\nSet within one of India’s most advanced exhibition venues—known for its world-class infrastructure\, large-scale exhibition space\, and seamless connectivity—the event ensures an immersive and high-impact experience for exhibitors and visitors alike. \n\n\n\nFrom live demonstrations and product launches to networking sessions and industry insights\, Industrial Connect Expo 2026 is where innovation meets opportunity\, driving growth and collaboration across the manufacturing ecosystem.
URL:https://indiaexpomart.com/event/industrial-connect-expo-2026/
LOCATION:India Expo Centre & Mart\, Plot No. 23 –25 & 27- 29 Knowledge Park - II\, Greater Noida\, Uttar Pradesh\, 201306\, India
ATTACH;FMTTYPE=image/jpeg:https://indiaexpomart.com/wp-content/uploads/2026/04/IEML-Web-Banner-360X360-Pxl_page-0001.jpg
ORGANIZER;CN="E2E Events &amp%3B Exhibitions Ventures":MAILTO:anand@e2eventures.in
END:VEVENT
BEGIN:VEVENT
DTSTART;TZID=Asia/Kolkata:20260925T110000
DTEND;TZID=Asia/Kolkata:20260929T200000
DTSTAMP:20260424T021614
CREATED:20260416T053802Z
LAST-MODIFIED:20260416T055759Z
UID:4328-1790334000-1790712000@indiaexpomart.com
SUMMARY:UP International Trade Show 2026
DESCRIPTION:The UP International Trade Show 4.0 (UPITS 2026) is the flagship B2B and B2C event of the Uttar Pradesh Government\, highlighting Uttar Pradesh’s remarkable industrial progress\, entrepreneurial spirit\, and global business potential. This mega trade show serves as a powerful platform for industries\, startups\, exporters\, and business leaders to showcase their innovations\, build partnerships\, and explore new market opportunities on both national and international levels.
URL:https://indiaexpomart.com/event/up-international-trade-show-2026/
LOCATION:India Expo Centre & Mart\, Plot No. 23 –25 & 27- 29 Knowledge Park - II\, Greater Noida\, Uttar Pradesh\, 201306\, India
ATTACH;FMTTYPE=image/jpeg:https://indiaexpomart.com/wp-content/uploads/2026/04/UPITS-2026-logo.jpg
END:VEVENT
BEGIN:VEVENT
DTSTART;TZID=Asia/Kolkata:20261022T100000
DTEND;TZID=Asia/Kolkata:20261024T180000
DTSTAMP:20260424T021614
CREATED:20251227T095740Z
LAST-MODIFIED:20251227T100116Z
UID:3892-1792663200-1792864800@indiaexpomart.com
SUMMARY:The Battery Show India 2026
DESCRIPTION:Welcome to the 4th edition of The Battery Show India\, where brilliance meets innovation! Join us as we unite engineers\, business leaders\, top-industry companies\, and visionary thinkers from across the globe. Together\, we’ll unlock the door to ground-breaking products\, explore the latest advancements\, and forge powerful solutions that will shape the future. Prepare to be energized like never before! See you on 22 -23 & 24th Oct 2026. at India Expo Mart & Centre\, Greater Noida.
URL:https://indiaexpomart.com/event/the-battery-show-india-2026/
LOCATION:India Expo Centre & Mart\, Plot No. 23 –25 & 27- 29 Knowledge Park - II\, Greater Noida\, Uttar Pradesh\, 201306\, India
ATTACH;FMTTYPE=image/png:https://indiaexpomart.com/wp-content/uploads/2025/12/TBSI-LOGO_2026.png
ORGANIZER;CN="Informa Markets India":MAILTO:pankaj.sharma@informa.com
END:VEVENT
BEGIN:VEVENT
DTSTART;TZID=Asia/Kolkata:20261022T100000
DTEND;TZID=Asia/Kolkata:20261024T180000
DTSTAMP:20260424T021614
CREATED:20251227T100212Z
LAST-MODIFIED:20251227T100213Z
UID:3902-1792663200-1792864800@indiaexpomart.com
SUMMARY:Renewable Energy India Expo 2026
DESCRIPTION:Renewable Energy India Expo (REI Expo) 2025 successfully hosted Asia’s largest gathering of clean energy innovators and technology pioneers. \n\n\n\nOver 55\,000+ professionals and 1\,000+ leading brands came together to collectively shape the sustainable future of energy. \n\n\n\nThe expansive expo featured 14 innovation-packed halls\, including 10 dedicated to solar and bio-energy advancements\, along with specialized battery storage solutions. \n\n\n\nThis milestone edition introduced the first comprehensive Energy Storage Conference\, marking a critical advancement in India’s renewable energy transition.
URL:https://indiaexpomart.com/event/renewable-energy-india-expo-2026/
LOCATION:India Expo Centre & Mart\, Plot No. 23 –25 & 27- 29 Knowledge Park - II\, Greater Noida\, Uttar Pradesh\, 201306\, India
ATTACH;FMTTYPE=image/png:https://indiaexpomart.com/wp-content/uploads/2025/12/rei-logo-2026.png
ORGANIZER;CN="Informa Markets India":MAILTO:pankaj.sharma@informa.com
END:VEVENT
BEGIN:VEVENT
DTSTART;TZID=Asia/Kolkata:20261124T100000
DTEND;TZID=Asia/Kolkata:20261126T180000
DTSTAMP:20260424T021614
CREATED:20260320T094629Z
LAST-MODIFIED:20260320T095139Z
UID:4117-1795514400-1795716000@indiaexpomart.com
SUMMARY:PMEC India 2026
DESCRIPTION:The powerhouse of pharmaceutical manufacturing technology and equipment’s PMEC India 2026 \n\n\n\nUniting South Asia’s pharma excellence\, PMEC India is the premier gathering for key decision-makers in pharmaceutical manufacturing and engineering from India and across the globe \n\n\n\nDedicated to pharmaceutical production processes and equipment’s\, this pivotal event provides an unmatched platform to grow your business\, broaden your network\, and generate high-quality leads in the pharmaceutical and biopharma industries.
URL:https://indiaexpomart.com/event/pmec-india-2026/
LOCATION:India Expo Centre & Mart\, Plot No. 23 –25 & 27- 29 Knowledge Park - II\, Greater Noida\, Uttar Pradesh\, 201306\, India
ATTACH;FMTTYPE=image/jpeg:https://indiaexpomart.com/wp-content/uploads/2026/03/logo-img-.jpg
ORGANIZER;CN="Informa Markets":MAILTO:KALAISELVAN.NADAR@informa.com / Nisha.chandak@informa.com
END:VEVENT
BEGIN:VEVENT
DTSTART;TZID=Asia/Kolkata:20261204T100000
DTEND;TZID=Asia/Kolkata:20261209T180000
DTSTAMP:20260424T021614
CREATED:20260115T053449Z
LAST-MODIFIED:20260115T053825Z
UID:3943-1796378400-1796839200@indiaexpomart.com
SUMMARY:India ITME 2026
DESCRIPTION:India ITME 2026 shall be held in IEML\, Greater Noida\, India. The event is expected to hold more than 1800 exhibitors in 20 chapters and is expected to have more than 1\,50\,000 visitors over the 6 days period making it the largest event in the Textile & Textile Engineering Industry segment.
URL:https://indiaexpomart.com/event/india-itme-2026/
LOCATION:India Expo Centre & Mart\, Plot No. 23 –25 & 27- 29 Knowledge Park - II\, Greater Noida\, Uttar Pradesh\, 201306\, India
ATTACH;FMTTYPE=image/png:https://indiaexpomart.com/wp-content/uploads/2026/01/itme-next-logo_2.png
ORGANIZER;CN="India ITME Society":MAILTO:itme@india-itme.com / projects@india-itme.com
END:VEVENT
BEGIN:VEVENT
DTSTART;TZID=Asia/Kolkata:20261217T100000
DTEND;TZID=Asia/Kolkata:20261219T180000
DTSTAMP:20260424T021614
CREATED:20260114T083008Z
LAST-MODIFIED:20260114T083136Z
UID:3937-1797501600-1797703200@indiaexpomart.com
SUMMARY:Money Alpha 360°
DESCRIPTION:Money Alpha 360° is India’s leading platform uniting finance\, investments\, wealth management\, fintech\, payments\, digital assets\, AI-driven finance\, and emerging technologies. Designed for financial leaders\, investors\, institutions\, traders\, wealth managers\, technology innovators\, and fintech founders. The event drives business growth and partnerships featuring  exhibitors\, multi-track conferences\, thousands of decision-makers\, live demos\, investor & VC networking hubs\, Award Night to recognize the industry leaders and innovation zones.
URL:https://indiaexpomart.com/event/money-alpha-360/
LOCATION:India Expo Centre & Mart\, Plot No. 23 –25 & 27- 29 Knowledge Park - II\, Greater Noida\, Uttar Pradesh\, 201306\, India
ATTACH;FMTTYPE=image/jpeg:https://indiaexpomart.com/wp-content/uploads/2026/01/600527146_122112100389127074_6965045583508999035_n.jpg
ORGANIZER;CN="India exposition mart Limited":MAILTO:business@moneyalpha360.com
END:VEVENT
END:VCALENDAR